BEGIN:VCALENDAR
PRODID:-//kirchenweb.ch gmbh//veranstaltungsausgabe v2.0//DE
VERSION:2.0
METHOD:PUBLISH
BEGIN:VEVENT
DTSTART:20240922T084500Z
DTEND:20240922T094500Z
LOCATION:Kirche Buchthalen\, Windeggstrasse 1\, 8203 Schaffhausen
TRANSP:OPAQUE
SEQUENCE:0
UID:158661-veranstaltung@ref-sh.ch
DTSTAMP:20240411T153012Z
DESCRIPTION:Kontakt: Michèle Lampinen\, cand. theol.\n\nWeitere Infos:
  https://www.ref-sh.ch/veranstaltung/158661
SUMMARY:Jugendgottesdienst
PRIORITY:5
X-MICROSOFT-CDO-IMPORTANCE:1
CLASS:PUBLIC
END:VEVENT
END:VCALENDAR
