BEGIN:VCALENDAR
PRODID:-//kirchenweb.ch gmbh//veranstaltungsausgabe v2.0//DE
VERSION:2.0
METHOD:PUBLISH
BEGIN:VEVENT
DTSTART:20240602T080000Z
DTEND:20240602T100000Z
LOCATION:HofAckerZentrum\, Alpenstrasse 176\, 8203 Schaffhausen
TRANSP:OPAQUE
SEQUENCE:0
UID:158659-veranstaltung@ref-sh.ch
DTSTAMP:20240528T064801Z
DESCRIPTION:Tiersegnungsgottesdienst zum Thema «Tiere unsere
  Mitgeschöpfe»\nauf dem Areal des Hofackerzentrums.\n\nTiere sind
  Mitgeschöpfe\, für die wir Verantwortung tragen und die unser Leben auf
  vielfältige Weise bereichern. Für viele Menschen gehören Tiere zum
  Alltag dazu und sind längst Familienmitglieder geworden. In unserem
  Tiersegnungsgottesdienst stellen wir die Beziehung zu unseren tierischen
  Mitgeschöpfen ins Zentrum. Die Tiersegnung drückt die Wertschätzung
  gegenüber der Schöpfung aus und steht für den achtsamen Umgang mit
  Tieren. \n\nBei angenehmer Witterung findet der Gottesdienst draussen
  statt\, bei Regen im Foyer des Hofackerzentrums. Wir segnen die Tiere und
  ihre Familien im Anschluss an den Gottesdienst.\nDie Kollekte spenden wir
  dem Schaffhauser Verein «Animal Rescue» Tier-Sicherung Schweiz. \nDer
  Adhoc-Chor begleitet uns musikalisch unter der Leitung von Carlos Greull.
  \n\n\nWir freuen uns\, Sie mit Ihren tierischen Freunden bei uns zu
  begrüssen! Alle Menschen und Tiere sind herzlich willkommen. Natürlich
  sind auch Besucherinnen und Besucher ohne tierische Gefährten herzlich
  eingeladen. \n\nSozialdiakoninnen Adriana Di Cesare und Nicole
  Russenberger mit Team. Im Anschluss Apéro. \n\n\n\nKontakt: Adriana Di
  Cesare\n\nWeitere Infos: https://www.ref-sh.ch/veranstaltung/158659
SUMMARY:Familiengottesdienst mit Tiersegnung
PRIORITY:5
X-MICROSOFT-CDO-IMPORTANCE:1
CLASS:PUBLIC
END:VEVENT
END:VCALENDAR
