BEGIN:VCALENDAR
PRODID:-//kirchenweb.ch gmbh//veranstaltungsausgabe v2.0//DE
VERSION:2.0
METHOD:PUBLISH
BEGIN:VEVENT
DTSTART:20240121T091500Z
DTEND:20240121T101500Z
LOCATION:St.Johann\, Kirchhofplatz\, 8200 Schaffhausen
TRANSP:OPAQUE
SEQUENCE:0
UID:158648-veranstaltung@ref-sh.ch
DTSTAMP:20240131T143311Z
DESCRIPTION:Lektor: Harald Hauck\n\nKontakt: Prof. Erich Bryner\n\nWeitere
  Infos: https://www.ref-sh.ch/veranstaltung/158648
SUMMARY:Gottesdienst
PRIORITY:5
X-MICROSOFT-CDO-IMPORTANCE:1
CLASS:PUBLIC
END:VEVENT
END:VCALENDAR
