BEGIN:VCALENDAR
PRODID:-//kirchenweb.ch gmbh//veranstaltungsausgabe v2.0//DE
VERSION:2.0
METHOD:PUBLISH
BEGIN:VEVENT
DTSTART:20250112T091500Z
DTEND:20250112T101500Z
LOCATION:St.Johann\, Kirchhofplatz\, 8200 Schaffhausen
TRANSP:OPAQUE
SEQUENCE:0
UID:158647-veranstaltung@ref-sh.ch
DTSTAMP:20251110T195032Z
DESCRIPTION:Die meisten von uns wurden als Kleinkinder getauft. Nicht nur
  deshalb tut es gut\, sich an die eigene Taufe zurückzuerinnern: an das
  Versprechen von Gott\, mit dir durch dick und dünn zu gehen. \nIn dem
  Familiengottesdienst mit Tauferinnerung führen uns die Drittklässler
  und Viertklässler mit ihrer Katechetin Gabriela Fahrni und Pfarrer
  Roland Diethelm mit einem Segensritus an diese Wurzeln.\nAlle Kinder sind
  eingeladen\, ihre Taufkerze mitzubringen und an der Osterkerze zu
  entzünden.\n\nIm Anschluss an den Gottesdienst Chilekafi im Museumscafé
  und Brunch für die Familien unserer Dritt- und Viertklässler im
  Münsterpfarrhaus.\n\n\nKontakt: Pfarrer Roland Diethelm\n\nWeitere
  Infos: https://www.ref-sh.ch/veranstaltung/158647
SUMMARY:Gottesdienst am dritten Sonntag in der Weihnachtszeit
PRIORITY:5
X-MICROSOFT-CDO-IMPORTANCE:1
CLASS:PUBLIC
END:VEVENT
END:VCALENDAR
