BEGIN:VCALENDAR
PRODID:-//kirchenweb.ch gmbh//veranstaltungsausgabe v2.0//DE
VERSION:2.0
METHOD:PUBLISH
BEGIN:VEVENT
DTSTART:20250420T050000Z
DTEND:20250420T060000Z
LOCATION:Kirche\, Kirchstrasse 8\, 8214 Gächlingen
TRANSP:OPAQUE
SEQUENCE:0
UID:158521-veranstaltung@ref-sh.ch
DTSTAMP:20251124T151001Z
DESCRIPTION:Nach der
  https://www.ref-sh.ch/kg/gaechlingen/veranstaltung/165774 sind alle zum
  Zmorge in der Kirche eingeladen.\n\nKontakt: Rüdiger Schlunke\n\nWeitere
  Infos: https://www.ref-sh.ch/veranstaltung/158521
SUMMARY:Osterzmorge
PRIORITY:5
X-MICROSOFT-CDO-IMPORTANCE:1
CLASS:PUBLIC
END:VEVENT
END:VCALENDAR
