BEGIN:VCALENDAR
PRODID:-//kirchenweb.ch gmbh//veranstaltungsausgabe v2.0//DE
VERSION:2.0
METHOD:PUBLISH
BEGIN:VEVENT
DTSTART:20240107T090000Z
DTEND:20240107T100000Z
LOCATION:Kirche\, Kirchstrasse 8\, 8214 Gächlingen
TRANSP:OPAQUE
SEQUENCE:0
UID:158509-veranstaltung@ref-sh.ch
DTSTAMP:20240106T163002Z
DESCRIPTION:Ab 10 Uhr gibt es Zmorge im Bistro in der Kirche.\n\nKontakt:
  Eva Werner\n\nWeitere Infos: https://www.ref-sh.ch/veranstaltung/158509
SUMMARY:Kafi-Chile: Kaffee und Zopf in der Kirche
PRIORITY:5
X-MICROSOFT-CDO-IMPORTANCE:1
CLASS:PUBLIC
END:VEVENT
END:VCALENDAR
