BEGIN:VCALENDAR
PRODID:-//kirchenweb.ch gmbh//veranstaltungsausgabe v2.0//DE
VERSION:2.0
METHOD:PUBLISH
BEGIN:VEVENT
DTSTART:20240414T090000Z
DTEND:20240414T100000Z
LOCATION:Kirche\, Kirchstrasse 8\, 8214 Gächlingen
TRANSP:OPAQUE
SEQUENCE:0
UID:158503-veranstaltung@ref-sh.ch
DTSTAMP:20240112T163012Z
DESCRIPTION:Im Anschluss an den Gottesdienst sind Gross und Klein herzlich
  zum Chilekafi eingeladen.\n\nKontakt: Beatrix Niklaus\n\nWeitere Infos:
  https://www.ref-sh.ch/veranstaltung/158503
SUMMARY:Chilekafi
PRIORITY:5
X-MICROSOFT-CDO-IMPORTANCE:1
CLASS:PUBLIC
END:VEVENT
END:VCALENDAR
