BEGIN:VCALENDAR
PRODID:-//kirchenweb.ch gmbh//veranstaltungsausgabe v2.0//DE
VERSION:2.0
METHOD:PUBLISH
BEGIN:VEVENT
DTSTART:20240121T083000Z
DTEND:20240121T093000Z
LOCATION:Steigkirche\, Nordstrasse 33\, 8200 Schaffhausen
TRANSP:OPAQUE
SEQUENCE:0
UID:158418-veranstaltung@ref-sh.ch
DTSTAMP:20240115T154624Z
DESCRIPTION:1. Joh. 4\, 7-21\n\nKontakt: Pfrn. Lea Schuler\n\nWeitere
  Infos: https://www.ref-sh.ch/veranstaltung/158418
SUMMARY:Gottesdienst
PRIORITY:5
X-MICROSOFT-CDO-IMPORTANCE:1
CLASS:PUBLIC
END:VEVENT
END:VCALENDAR
