BEGIN:VCALENDAR
PRODID:-//kirchenweb.ch gmbh//veranstaltungsausgabe v2.0//DE
VERSION:2.0
METHOD:PUBLISH
BEGIN:VEVENT
DTSTART:20231211T150000Z
DTEND:20231211T160000Z
LOCATION:Kirche\, \,  Buchberg-Rüdlingen
TRANSP:OPAQUE
SEQUENCE:0
UID:158359-veranstaltung@ref-sh.ch
DTSTAMP:20231111T155219Z
DESCRIPTION:Adventliches Beisammensein und Stubete\n\nMit Christiane
  Landert (Flöte) und Doris Angst (Klavier)\n\nKontakt:
  barbara.erdmann@ref-sh.ch\n\nWeitere Infos:
  https://www.ref-sh.ch/veranstaltung/158359
SUMMARY:Frauenadvent
PRIORITY:5
X-MICROSOFT-CDO-IMPORTANCE:1
CLASS:PUBLIC
END:VEVENT
END:VCALENDAR
