BEGIN:VCALENDAR
PRODID:-//kirchenweb.ch gmbh//veranstaltungsausgabe v2.0//DE
VERSION:2.0
METHOD:PUBLISH
BEGIN:VEVENT
DTSTART:20231202T093000Z
DTEND:20231202T110000Z
LOCATION:Pfarrhaussaal\, Im Chloster 1\, 8214 Gächlingen
TRANSP:OPAQUE
SEQUENCE:0
UID:158358-veranstaltung@ref-sh.ch
DTSTAMP:20231111T163004Z
DESCRIPTION:Am Samstag 2. Dezember um 10.30 Uhr macht der Baureferent
  Rüdiger Schlunke eine Begehung der Renovierung 2024 des Pfarrhauses.
  Eingeladen sind alle\, die sich für die Details interessieren. Im
  Anschluss gibt es einen kleinen Apéro.\n\nHerzliche Einladung!\n
 \nKontakt: Rüdiger Schlunke \n\nWeitere Infos:
  https://www.ref-sh.ch/veranstaltung/158358
SUMMARY:Begehung Projekt Pfarrhaus 2024
PRIORITY:5
X-MICROSOFT-CDO-IMPORTANCE:1
CLASS:PUBLIC
END:VEVENT
END:VCALENDAR
