BEGIN:VCALENDAR
PRODID:-//kirchenweb.ch gmbh//veranstaltungsausgabe v2.0//DE
VERSION:2.0
METHOD:PUBLISH
BEGIN:VEVENT
DTSTART:20240406T113000Z
DTEND:20240406T173000Z
LOCATION:Villa Haslach\, Mühlenstrasse 12\, 8217 Wilchingen
TRANSP:OPAQUE
SEQUENCE:0
UID:158343-veranstaltung@ref-sh.ch
DTSTAMP:20231111T163011Z
DESCRIPTION:Das Lebensende und Sterben macht uns als Mitmenschen oft
  hilflos. Nachdem das Sterben und der Tod Jahrzehnte lang verdrängt
  wurden\, entdeckt man heute wieder\, dass das Lebensende untrennbar zum
  Dasein gehört. Deshalb ist es wichtig\, auch diesen letzten Abschnitt
  bewusst und in Beziehung mit vertrauten Menschen zu gestalten.\n\nIn
  diesem Letzte Hilfe Kurs lernen Interessierte\, was sie für die ihnen
  Nahestehenden am Ende des Lebens tun können.\n\nKursleitung:\nRegula
  Salathé\, Pflegefachfrau (Palliative Care und Wundpflege bei der Spitex
  Klettgau-Randen)\nMarianne Näf\, Pfarramtliche Mitarbeiterin in
  Gächlingen\n\nIn der längeren Pause (Nachtessen) essen wir unser selber
  mitgebrachtes Essen. Getränke stehen zur Verfügung.\n\nDer Kurs findet
  in der https://villahaslach.ch/ in Wilchingen statt.\n\nDie
  Teilnehmerinnenzahl ist beschränkt. Anmeldeschluss ist der 25. März\n\n
 \nKontakt: Regula Salathé\, Marianne Näf\n\nWeitere Infos:
  https://www.ref-sh.ch/veranstaltung/158343
SUMMARY:Letzte Hilfe Kurs
PRIORITY:5
X-MICROSOFT-CDO-IMPORTANCE:1
CLASS:PUBLIC
END:VEVENT
END:VCALENDAR
