BEGIN:VCALENDAR
PRODID:-//kirchenweb.ch gmbh//veranstaltungsausgabe v2.0//DE
VERSION:2.0
METHOD:PUBLISH
BEGIN:VEVENT
DTSTART:20241108T180000Z
DTEND:20241108T210000Z
LOCATION:Zwinglikirche\, Hochstrasse 202\, 8200 Schaffhausen
TRANSP:OPAQUE
SEQUENCE:0
UID:158338-veranstaltung@ref-sh.ch
DTSTAMP:20240918T055013Z
DESCRIPTION:Um an Forschungsgelder für ihre Studien zu kommen\, lässt
  sich Anthropologin Alma von ihrem Dekan zur Teilnahme an einer
  ungewöhnlichen Studie überreden: Sie soll drei Wochen lang mit einem
  auf sie zugeschnittenen humanoiden Roboter namens Tom zusammenleben. 
 \nSeine künstliche Intelligenz ist darauf ausgerichtet\, Almas perfekter
  Partner zu sein.\n\nEin überraschender Film\, humorvoll und sensibel\,
  mit der überzeugenden Hauptdarstellerin\, Maren Eggert \n\nTüröffnung
  und Apéro 19 Uhr\, Filmbeginn 19:30 Uhr\n\nKontakt: Nicole Russenberger
 \n\nWeitere Infos: https://www.ref-sh.ch/veranstaltung/158338
SUMMARY:Kino im Zwingli -"Ich bin dein Mensch"
PRIORITY:5
X-MICROSOFT-CDO-IMPORTANCE:1
CLASS:PUBLIC
END:VEVENT
END:VCALENDAR
