BEGIN:VCALENDAR
PRODID:-//kirchenweb.ch gmbh//veranstaltungsausgabe v2.0//DE
VERSION:2.0
METHOD:PUBLISH
BEGIN:VEVENT
DTSTART:20240607T180000Z
DTEND:20240607T203000Z
LOCATION:Zwinglikirche\, Hochstrasse 202\, 8200 Schaffhausen
TRANSP:OPAQUE
SEQUENCE:0
UID:158337-veranstaltung@ref-sh.ch
DTSTAMP:20240506T073835Z
DESCRIPTION:Studentin Nelly arbeitet als Busfahrerin und kümmert sich um
  ihre leicht demente Oma Rosmarie. Diese büxt gerne mal aus\, am liebsten
  in den Familiengarten. Ein idyllisches Plätzchen\, wären da nicht der
  pedantische Familiengartenpräsident Franco und Nelly’s Tante und Onkel
  und ein lang gehütetes Familiengeheimnis. \nEine Schweizer Filmkomödie
  von Rolf Lyssy\, welche mit einem humoristischen Auge auf die Schweizer
  Schrebergartenkultur blickt.\n\nTüröffnung und Apéro 20 Uhr\,
  Filmbeginn ca. 20:30 Uhr\n\nKontakt: Nicole Russenberger\n\nWeitere
  Infos: https://www.ref-sh.ch/veranstaltung/158337
SUMMARY:Sommerkino im Zwingli - Eden für Jeden
PRIORITY:5
X-MICROSOFT-CDO-IMPORTANCE:1
CLASS:PUBLIC
END:VEVENT
END:VCALENDAR
