BEGIN:VCALENDAR
PRODID:-//kirchenweb.ch gmbh//veranstaltungsausgabe v2.0//DE
VERSION:2.0
METHOD:PUBLISH
BEGIN:VEVENT
DTSTART:20240112T180000Z
DTEND:20240112T210000Z
LOCATION:Zwinglikirche\, Hochstrasse 202\, 8200 Schaffhausen
TRANSP:OPAQUE
SEQUENCE:0
UID:158336-veranstaltung@ref-sh.ch
DTSTAMP:20231130T074721Z
DESCRIPTION:Die Geschichte von der Bauerntochter Belli und ihrem jüngeren
  gehörlosen Bruder\, die mit ihren Eltern auf einem abgelegenen Hof in
  den Bergen lebt. Der Film lebt von seiner Genauigkeit und der
  erzählerischen Freude\, die die Geschichte der Familie auf dem
  abgelegenen Heimet einzigartig macht. Bei seinem Besuch in der
  Zwinglikirche vergangenen Oktober\, hat Fredi Murer persönlich und
  eindrücklich darüber berichtet.\nDieser Film ist wie ein Kristall aus
  den Bergen. Ausgezeichnet mit dem Goldenen Leoparden von Locarno ist er
  so etwas wie der höchste Gipfel des Schweizer Kinos. Seien Sie herzlich
  willkommen!\n\nTüröffnung und Apéro 19 Uhr\, Filmbeginn 19:30 Uhr\n
 \nKontakt: Nicole Russenberger\n\nWeitere Infos:
  https://www.ref-sh.ch/veranstaltung/158336
SUMMARY:Kino im Zwingli Höhenfeuer von Fredi M. Murer
PRIORITY:5
X-MICROSOFT-CDO-IMPORTANCE:1
CLASS:PUBLIC
END:VEVENT
END:VCALENDAR
