BEGIN:VCALENDAR
PRODID:-//kirchenweb.ch gmbh//veranstaltungsausgabe v2.0//DE
VERSION:2.0
METHOD:PUBLISH
BEGIN:VEVENT
DTSTART:20240109T110000Z
DTEND:20240109T123000Z
LOCATION:Zwinglikirche\, Hochstrasse 202\, 8200 Schaffhausen
TRANSP:OPAQUE
SEQUENCE:0
UID:158298-veranstaltung@ref-sh.ch
DTSTAMP:20240103T084804Z
DESCRIPTION:Quartierzmittag für Alle - ein Treff für Jung und Alt
 \nAnmeldung bis Montag 17 Uhr (auf Beantworter oder Email)\n\nKontakt:
  Nicole Russenberger\n\nWeitere Infos:
  https://www.ref-sh.ch/veranstaltung/158298
SUMMARY:Quartierzmittag im Zwingli
PRIORITY:5
X-MICROSOFT-CDO-IMPORTANCE:1
CLASS:PUBLIC
END:VEVENT
END:VCALENDAR
