BEGIN:VCALENDAR
PRODID:-//kirchenweb.ch gmbh//veranstaltungsausgabe v2.0//DE
VERSION:2.0
METHOD:PUBLISH
BEGIN:VEVENT
DTSTART:20240125T080000Z
DTEND:20240125T100000Z
LOCATION:Zwinglikirche\, Hochstrasse 202\, 8200 Schaffhausen
TRANSP:OPAQUE
SEQUENCE:0
UID:158279-veranstaltung@ref-sh.ch
DTSTAMP:20240111T075638Z
DESCRIPTION:Gemütliche Tischrunde bei Kaffee und Gipfeli\, mit Input um
  9:15 Uhr.\n\n\nKontakt: Pfrn. Miriam Gehrke\n\nWeitere Infos:
  https://www.ref-sh.ch/veranstaltung/158279
SUMMARY:Vormittagskaffee
PRIORITY:5
X-MICROSOFT-CDO-IMPORTANCE:1
CLASS:PUBLIC
END:VEVENT
END:VCALENDAR
