BEGIN:VCALENDAR
PRODID:-//kirchenweb.ch gmbh//veranstaltungsausgabe v2.0//DE
VERSION:2.0
METHOD:PUBLISH
BEGIN:VEVENT
DTSTART:20240104T130000Z
DTEND:20240104T150000Z
LOCATION:Zwinglikirche\, Hochstrasse 202\, 8200 Schaffhausen
TRANSP:OPAQUE
SEQUENCE:0
UID:158266-veranstaltung@ref-sh.ch
DTSTAMP:20231110T163007Z
DESCRIPTION:Gemütlicher Treff für alle\, die gerne lismen. Die
  oekumenische Gruppe unterstützt die spirituelle Weggemeinschaft in
  Rheinau und ihre Projekte in Albanien.\n\nKontakt: Nicole Russenberger\,
  Sozialdiakonie\n\nWeitere Infos:
  https://www.ref-sh.ch/veranstaltung/158266
SUMMARY:Lismergruppe
PRIORITY:5
X-MICROSOFT-CDO-IMPORTANCE:1
CLASS:PUBLIC
END:VEVENT
END:VCALENDAR
