BEGIN:VCALENDAR
PRODID:-//kirchenweb.ch gmbh//veranstaltungsausgabe v2.0//DE
VERSION:2.0
METHOD:PUBLISH
BEGIN:VEVENT
DTSTART:20240118T151500Z
DTEND:20240118T170000Z
LOCATION:Steigkirche\, Nordstrasse 33\, 8200 Schaffhausen
TRANSP:OPAQUE
SEQUENCE:0
UID:158087-veranstaltung@ref-sh.ch
DTSTAMP:20240115T081544Z
DESCRIPTION:Gemeinsam mit den Kleinsten feiern wir Gottesdienst. Die
  Kinder im Alter von 3 bis 6 Jahren werden von den Eltern oder einer
  anderen Bezugsperson begleitet. \n\nKontakt: \n\nWeitere Infos:
  https://www.ref-sh.ch/veranstaltung/158087
SUMMARY:Fiire mit de Chliine
PRIORITY:5
X-MICROSOFT-CDO-IMPORTANCE:1
CLASS:PUBLIC
END:VEVENT
END:VCALENDAR
