BEGIN:VCALENDAR
PRODID:-//kirchenweb.ch gmbh//veranstaltungsausgabe v2.0//DE
VERSION:2.0
METHOD:PUBLISH
BEGIN:VEVENT
DTSTART:20231203T100000Z
DTEND:20231203T103000Z
LOCATION:Kirche\, Kirchstrasse 8\, 8214 Gächlingen
TRANSP:OPAQUE
SEQUENCE:0
UID:157888-veranstaltung@ref-sh.ch
DTSTAMP:20240409T160408Z
DESCRIPTION:An der Herbsversammlung werden wir über das Budget und
  weitere Traktanden abstimmen.\n\nAnschliessend an die Versammlung
  offeriert der Kirchenstand einen Umtrunk.\n\nWeitere Infornmationen und
  Unterlagen:\nhttp://www.ref-sh.ch/kg/gaechlingen/kirchgemeindeversammlung
 \n\nWeitere Informationen zum Renovationsprojekt: \n\n\n\nKontakt: Roland
  Schönenberger\n\nWeitere Infos:
  https://www.ref-sh.ch/veranstaltung/157888
SUMMARY:Kirchgemeindeversammlung
PRIORITY:5
X-MICROSOFT-CDO-IMPORTANCE:1
CLASS:PUBLIC
END:VEVENT
END:VCALENDAR
