BEGIN:VCALENDAR
PRODID:-//kirchenweb.ch gmbh//veranstaltungsausgabe v2.0//DE
VERSION:2.0
METHOD:PUBLISH
BEGIN:VEVENT
DTSTART:20240213T180000Z
DTEND:20240213T200000Z
LOCATION:Steigsaal\, Nordstrasse 33\, 8200 Schaffhausen
TRANSP:OPAQUE
SEQUENCE:0
UID:157879-veranstaltung@ref-sh.ch
DTSTAMP:20240111T080843Z
DESCRIPTION:Filmabend der kirchenrätlichen Frauenkommission: "Mona Lisa's
  Lächeln"\nIm Herbst 1953 beginnt Katherine Watson\, gespielt von Julia
  Roberts\, am renommierten Wellesley College für Fraun\, Kunstgeschichte
  zu unterrichten. Sehr schnell fühlt sich die junge Frau von der
  konservativen Mentalität des Lehrkörpers\, aber auch einiger
  Studentinnen gestört. Auf die Gefahr hin\, ihre Kollegen zu verärgern\,
  beginnt Katherine\, sich für ihre Studentinnen zu engagieren und ihnen
  beizubringen\, selbständig zu denken un dihr Leben abseits der
  vorgefertigten Wege zu finden. \n\nKontakt: Franziska Bevilacqua\n
 \nWeitere Infos: https://www.ref-sh.ch/veranstaltung/157879
SUMMARY:Frauen-Film-Abend
PRIORITY:5
X-MICROSOFT-CDO-IMPORTANCE:1
CLASS:PUBLIC
END:VEVENT
END:VCALENDAR
