BEGIN:VCALENDAR
PRODID:-//kirchenweb.ch gmbh//veranstaltungsausgabe v2.0//DE
VERSION:2.0
METHOD:PUBLISH
BEGIN:VEVENT
DTSTART:20240107T093000Z
DTEND:20240107T103000Z
LOCATION:HofAckerZentrum\, Alpenstrasse 176\, 8203 Schaffhausen
TRANSP:OPAQUE
SEQUENCE:0
UID:157878-veranstaltung@ref-sh.ch
DTSTAMP:20231107T080731Z
DESCRIPTION:Kontakt: archiv.buchthalen@ref-sh.ch\n\nWeitere Infos:
  https://www.ref-sh.ch/veranstaltung/157878
SUMMARY:Neujahrsapéro für alle mit Begrüssung Neuzuzüger
PRIORITY:5
X-MICROSOFT-CDO-IMPORTANCE:1
CLASS:PUBLIC
END:VEVENT
END:VCALENDAR
