BEGIN:VCALENDAR
PRODID:-//kirchenweb.ch gmbh//veranstaltungsausgabe v2.0//DE
VERSION:2.0
METHOD:PUBLISH
BEGIN:VEVENT
DTSTART:20241224T153000Z
DTEND:20241224T163000Z
LOCATION:Kirche\, \,  Buchberg-Rüdlingen
TRANSP:OPAQUE
SEQUENCE:0
UID:157877-veranstaltung@ref-sh.ch
DTSTAMP:20241221T081441Z
DESCRIPTION:Wir erzählen eine Weihnachtsgeschichte und singen
  Weihnachtslieder für Kinder. Bringen Sie eine Laterne oder ein Windlicht
  mit\, damit Sie das Licht der Krippe nach Hause tragen können.\n
 \nKontakt: Barbara Erdmann\n\nWeitere Infos:
  https://www.ref-sh.ch/veranstaltung/157877
SUMMARY:Fiire mit de Chliine: Licht holen an der Krippe
PRIORITY:5
X-MICROSOFT-CDO-IMPORTANCE:1
CLASS:PUBLIC
END:VEVENT
END:VCALENDAR
