BEGIN:VCALENDAR
PRODID:-//kirchenweb.ch gmbh//veranstaltungsausgabe v2.0//DE
VERSION:2.0
METHOD:PUBLISH
BEGIN:VEVENT
DTSTART:20240427T150000Z
DTEND:20240427T160000Z
LOCATION:St. Konrad\, Stauffacherstrasse 1\, 8200 Schaffhausen
TRANSP:OPAQUE
SEQUENCE:0
UID:157821-veranstaltung@ref-sh.ch
DTSTAMP:20240409T153004Z
DESCRIPTION:Ökumenischer Familien-Gottesdienst zum Abschluss der
  Kindertage 2024 mit anschl. Apéro\n\nKontakt: Pfarrer Pius Troxler\,
  Pfarrer Roland Diethelm\, Pfarrer Daniel Müller\n\nWeitere Infos:
  https://www.ref-sh.ch/veranstaltung/157821
SUMMARY:Ökumenischer Familiengottesdienst
PRIORITY:5
X-MICROSOFT-CDO-IMPORTANCE:1
CLASS:PUBLIC
END:VEVENT
END:VCALENDAR
