BEGIN:VCALENDAR
PRODID:-//kirchenweb.ch gmbh//veranstaltungsausgabe v2.0//DE
VERSION:2.0
METHOD:PUBLISH
BEGIN:VEVENT
DTSTART:20240526T084500Z
DTEND:20240526T094500Z
LOCATION:Kirche Buchthalen\, Windeggstrasse 1\, 8203 Schaffhausen
TRANSP:OPAQUE
SEQUENCE:0
UID:157820-veranstaltung@ref-sh.ch
DTSTAMP:20240205T073810Z
DESCRIPTION:Kontakt: Adriana Di Cesare\, Nicole Russenberger\n\nWeitere
  Infos: https://www.ref-sh.ch/veranstaltung/157820
SUMMARY:Jugendgottesdienst
PRIORITY:5
X-MICROSOFT-CDO-IMPORTANCE:1
CLASS:PUBLIC
END:VEVENT
END:VCALENDAR
