BEGIN:VCALENDAR
PRODID:-//kirchenweb.ch gmbh//veranstaltungsausgabe v2.0//DE
VERSION:2.0
METHOD:PUBLISH
BEGIN:VEVENT
DTSTART:20240526T073000Z
DTEND:20240526T083000Z
LOCATION:Kirche Buchthalen\, Windeggstrasse 1\, 8203 Schaffhausen
TRANSP:OPAQUE
SEQUENCE:0
UID:157819-veranstaltung@ref-sh.ch
DTSTAMP:20240513T052952Z
DESCRIPTION:Gottesdienst zum Thema "Klänge" mit Sozialdiakonin Adriana Di
  Cesare und Sozialdiakonin Barbara Rohrer.\n\nKontakt: Adriana Di Cesare\,
  Barbara Rohrer\n\nWeitere Infos:
  https://www.ref-sh.ch/veranstaltung/157819
SUMMARY:Diakonischer Gottesdienst
PRIORITY:5
X-MICROSOFT-CDO-IMPORTANCE:1
CLASS:PUBLIC
END:VEVENT
END:VCALENDAR
