BEGIN:VCALENDAR
PRODID:-//kirchenweb.ch gmbh//veranstaltungsausgabe v2.0//DE
VERSION:2.0
METHOD:PUBLISH
BEGIN:VEVENT
DTSTART:20240324T083000Z
DTEND:20240324T093000Z
LOCATION:Kirche Buchthalen\, Windeggstrasse 1\, 8203 Schaffhausen
TRANSP:OPAQUE
SEQUENCE:0
UID:157818-veranstaltung@ref-sh.ch
DTSTAMP:20240319T095022Z
DESCRIPTION:Mit Vertretung des Kirchenstandes\, Pfarrteams\,
  Stadtverbandes\, Diakoniekapitels und des Kirchenrates\n\nKontakt:
  archiv.buchthalen@ref-sh.ch\n\nWeitere Infos:
  https://www.ref-sh.ch/veranstaltung/157818
SUMMARY:Gottesdienst an Palmsonntag mit Ordination von Adriana Di Cesare\,
  Sozialdiakonin
PRIORITY:5
X-MICROSOFT-CDO-IMPORTANCE:1
CLASS:PUBLIC
END:VEVENT
END:VCALENDAR
