BEGIN:VCALENDAR
PRODID:-//kirchenweb.ch gmbh//veranstaltungsausgabe v2.0//DE
VERSION:2.0
METHOD:PUBLISH
BEGIN:VEVENT
DTSTART:20240329T083000Z
DTEND:20240329T093000Z
LOCATION:Kirche Buchthalen\, Windeggstrasse 1\, 8203 Schaffhausen
TRANSP:OPAQUE
SEQUENCE:0
UID:157816-veranstaltung@ref-sh.ch
DTSTAMP:20240322T093332Z
DESCRIPTION:Kontakt: Daniel Müller\n\nWeitere Infos:
  https://www.ref-sh.ch/veranstaltung/157816
SUMMARY:Gottesdienst am Karfreitag mit Abendmahl
PRIORITY:5
X-MICROSOFT-CDO-IMPORTANCE:1
CLASS:PUBLIC
END:VEVENT
END:VCALENDAR
