BEGIN:VCALENDAR
PRODID:-//kirchenweb.ch gmbh//veranstaltungsausgabe v2.0//DE
VERSION:2.0
METHOD:PUBLISH
BEGIN:VEVENT
DTSTART:20240623T080000Z
DTEND:20240623T090000Z
LOCATION:Kirche Buchthalen\, Windeggstrasse 1\, 8203 Schaffhausen
TRANSP:OPAQUE
SEQUENCE:0
UID:157813-veranstaltung@ref-sh.ch
DTSTAMP:20240618T074921Z
DESCRIPTION:Mitwirkung: 3. Klässler mit Katechetin Conny Gfeller
 \nVerabschiedung von Katechetin Conny Gfeller\nAnschliessend Apéro\n
 \nKontakt: Daniel Müller\n\nWeitere Infos:
  https://www.ref-sh.ch/veranstaltung/157813
SUMMARY:Familiengottesdienst mit Verabschiedung Katechetin Conny Gfeller
  und Abendmahl
PRIORITY:5
X-MICROSOFT-CDO-IMPORTANCE:1
CLASS:PUBLIC
END:VEVENT
END:VCALENDAR
