BEGIN:VCALENDAR
PRODID:-//kirchenweb.ch gmbh//veranstaltungsausgabe v2.0//DE
VERSION:2.0
METHOD:PUBLISH
BEGIN:VEVENT
DTSTART:20241117T094500Z
DTEND:20241117T104500Z
LOCATION:Kirche Buchthalen\, Windeggstrasse 1\, 8203 Schaffhausen
TRANSP:OPAQUE
SEQUENCE:0
UID:157800-veranstaltung@ref-sh.ch
DTSTAMP:20231106T073709Z
DESCRIPTION:Kontakt: admin.buchthalen@ref-sh.ch\n\nWeitere Infos:
  https://www.ref-sh.ch/veranstaltung/157800
SUMMARY:Jugendgottesdienst
PRIORITY:5
X-MICROSOFT-CDO-IMPORTANCE:1
CLASS:PUBLIC
END:VEVENT
END:VCALENDAR
