BEGIN:VCALENDAR
PRODID:-//kirchenweb.ch gmbh//veranstaltungsausgabe v2.0//DE
VERSION:2.0
METHOD:PUBLISH
BEGIN:VEVENT
DTSTART:20240512T080000Z
DTEND:20240512T090000Z
LOCATION:Kirche Buchthalen\, Windeggstrasse 1\, 8203 Schaffhausen
TRANSP:OPAQUE
SEQUENCE:0
UID:157797-veranstaltung@ref-sh.ch
DTSTAMP:20240430T061725Z
DESCRIPTION:Kontakt: Beatrice Kunz Pfeiffer\n\nWeitere Infos:
  https://www.ref-sh.ch/veranstaltung/157797
SUMMARY:Familiengottesdienst zum Muttertag
PRIORITY:5
X-MICROSOFT-CDO-IMPORTANCE:1
CLASS:PUBLIC
END:VEVENT
END:VCALENDAR
