BEGIN:VCALENDAR
PRODID:-//kirchenweb.ch gmbh//veranstaltungsausgabe v2.0//DE
VERSION:2.0
METHOD:PUBLISH
BEGIN:VEVENT
DTSTART:20241124T083000Z
DTEND:20241124T093000Z
LOCATION:Kirche Buchthalen\, Windeggstrasse 1\, 8203 Schaffhausen
TRANSP:OPAQUE
SEQUENCE:0
UID:157795-veranstaltung@ref-sh.ch
DTSTAMP:20241119T082352Z
DESCRIPTION:Wir gedenken der Verstorbenen der Kirchgemeinde Buchthalen und
  verlesen ihre Namen im Gottesdienst. \n\nMitwirkung: Peter Geugis\, Orgel
  ; Veronika Ehrensperger\, Harfe\n\n\nKontakt: Daniel Müller\n\nWeitere
  Infos: https://www.ref-sh.ch/veranstaltung/157795
SUMMARY:Gottesdienst zum Ewigkeitssonntag
PRIORITY:5
X-MICROSOFT-CDO-IMPORTANCE:1
CLASS:PUBLIC
END:VEVENT
END:VCALENDAR
