BEGIN:VCALENDAR
PRODID:-//kirchenweb.ch gmbh//veranstaltungsausgabe v2.0//DE
VERSION:2.0
METHOD:PUBLISH
BEGIN:VEVENT
DTSTART:20241027T083000Z
DTEND:20241027T093000Z
LOCATION:Kirche Buchthalen\, Windeggstrasse 1\, 8203 Schaffhausen
TRANSP:OPAQUE
SEQUENCE:0
UID:157792-veranstaltung@ref-sh.ch
DTSTAMP:20241024T073949Z
DESCRIPTION:mit Taufe von Giulia Müller\nMitwirkung: Drittklässler mit
  Katechetin Gabriela Fahrni zum Thema Taufe.\n\nKontakt: Beatrice Kunz
  Pfeiffer\n\nWeitere Infos: https://www.ref-sh.ch/veranstaltung/157792
SUMMARY:Gottesdienst
PRIORITY:5
X-MICROSOFT-CDO-IMPORTANCE:1
CLASS:PUBLIC
END:VEVENT
END:VCALENDAR
