BEGIN:VCALENDAR
PRODID:-//kirchenweb.ch gmbh//veranstaltungsausgabe v2.0//DE
VERSION:2.0
METHOD:PUBLISH
BEGIN:VEVENT
DTSTART:20240505T084500Z
DTEND:20240505T094500Z
LOCATION:Kirche Buchthalen\, Windeggstrasse 1\, 8203 Schaffhausen
TRANSP:OPAQUE
SEQUENCE:0
UID:157773-veranstaltung@ref-sh.ch
DTSTAMP:20231106T163015Z
DESCRIPTION:Kontakt: Daniel Müller\n\nWeitere Infos:
  https://www.ref-sh.ch/veranstaltung/157773
SUMMARY:Jugendgottesdienst
PRIORITY:5
X-MICROSOFT-CDO-IMPORTANCE:1
CLASS:PUBLIC
END:VEVENT
END:VCALENDAR
