BEGIN:VCALENDAR
PRODID:-//kirchenweb.ch gmbh//veranstaltungsausgabe v2.0//DE
VERSION:2.0
METHOD:PUBLISH
BEGIN:VEVENT
DTSTART:20240505T073000Z
DTEND:20240505T083000Z
LOCATION:Kirche Buchthalen\, Windeggstrasse 1\, 8203 Schaffhausen
TRANSP:OPAQUE
SEQUENCE:0
UID:157768-veranstaltung@ref-sh.ch
DTSTAMP:20240430T061705Z
DESCRIPTION:mit Taufe von Oskar Müller\n\nKontakt: Daniel Müller\n
 \nWeitere Infos: https://www.ref-sh.ch/veranstaltung/157768
SUMMARY:Gottesdienst mit Taufe
PRIORITY:5
X-MICROSOFT-CDO-IMPORTANCE:1
CLASS:PUBLIC
END:VEVENT
END:VCALENDAR
