BEGIN:VCALENDAR
PRODID:-//kirchenweb.ch gmbh//veranstaltungsausgabe v2.0//DE
VERSION:2.0
METHOD:PUBLISH
BEGIN:VEVENT
DTSTART:20240310T083000Z
DTEND:20240310T093000Z
LOCATION:Kirche Buchthalen\, Windeggstrasse 1\, 8203 Schaffhausen
TRANSP:OPAQUE
SEQUENCE:0
UID:157765-veranstaltung@ref-sh.ch
DTSTAMP:20240307T183947Z
DESCRIPTION:Mit Taufen von Mia\, Thea und Lean Ott\n\nKontakt: Daniel
  Müller\n\nWeitere Infos: https://www.ref-sh.ch/veranstaltung/157765
SUMMARY:Gottesdienst mit Taufen
PRIORITY:5
X-MICROSOFT-CDO-IMPORTANCE:1
CLASS:PUBLIC
END:VEVENT
END:VCALENDAR
