BEGIN:VCALENDAR
PRODID:-//kirchenweb.ch gmbh//veranstaltungsausgabe v2.0//DE
VERSION:2.0
METHOD:PUBLISH
BEGIN:VEVENT
DTSTART:20240121T090000Z
DTEND:20240121T100000Z
LOCATION:Heilsarmeezentrum \, Tannerberg 1\, 8200 Schaffhausen
TRANSP:OPAQUE
SEQUENCE:0
UID:157751-veranstaltung@ref-sh.ch
DTSTAMP:20240105T100226Z
DESCRIPTION:Ökumenischer Gottesdienst \nim Rahmen der Gebetswoche für
  die Einheit der Christ*innen\n\n\n\nKontakt: Pfrn. Beatrice Kunz Pfeiffer
 \n\nWeitere Infos: https://www.ref-sh.ch/veranstaltung/157751
SUMMARY:Ökumenischer Gottesdienst
PRIORITY:5
X-MICROSOFT-CDO-IMPORTANCE:1
CLASS:PUBLIC
END:VEVENT
END:VCALENDAR
