BEGIN:VCALENDAR
PRODID:-//kirchenweb.ch gmbh//veranstaltungsausgabe v2.0//DE
VERSION:2.0
METHOD:PUBLISH
BEGIN:VEVENT
DTSTART:20240114T093000Z
DTEND:20240114T103000Z
LOCATION:Friedhof Buchthalen \, Windeggstrasse 1\,
TRANSP:OPAQUE
SEQUENCE:0
UID:157750-veranstaltung@ref-sh.ch
DTSTAMP:20231107T073216Z
DESCRIPTION:Wenn das Grab einer vertrauten Person aufgehoben wird\, ist
  dies ein weiterer Abschied von einem geliebten Menschen. Wir möchten
  deshalb Angehörigen und Bekannten die Möglichkeit bieten\, diesen
  Abschied mit einer kleinen Gedenkfeier zu begehen. Die kurze Gedenkfeier
  findet im Anschluss an den Gottesdienst auf dem Friedhof Buchthalen
  statt.\n\nKontakt: Pfr. Daniel Müller\n\nWeitere Infos:
  https://www.ref-sh.ch/veranstaltung/157750
SUMMARY:Gedenkfeier zur Aufhebung der Gräber von 1997 - 1998
PRIORITY:5
X-MICROSOFT-CDO-IMPORTANCE:1
CLASS:PUBLIC
END:VEVENT
END:VCALENDAR
