BEGIN:VCALENDAR
PRODID:-//kirchenweb.ch gmbh//veranstaltungsausgabe v2.0//DE
VERSION:2.0
METHOD:PUBLISH
BEGIN:VEVENT
DTSTART:20240107T083000Z
DTEND:20240107T093000Z
LOCATION:Kirche Buchthalen\, Windeggstrasse 1\, 8203 Schaffhausen
TRANSP:OPAQUE
SEQUENCE:0
UID:157748-veranstaltung@ref-sh.ch
DTSTAMP:20231222T072008Z
DESCRIPTION:mit Begrüssung der Neuzuzüger und Neuzuzügerinnen
 \nanschliessend Apéro\n\nKontakt: Adriana Di Cesare\, Beatrice Kunz
  Pfeiffer\, Daniel Müller\n\nWeitere Infos:
  https://www.ref-sh.ch/veranstaltung/157748
SUMMARY:Gottesdienst zum Neujahr
PRIORITY:5
X-MICROSOFT-CDO-IMPORTANCE:1
CLASS:PUBLIC
END:VEVENT
END:VCALENDAR
