BEGIN:VCALENDAR
PRODID:-//kirchenweb.ch gmbh//veranstaltungsausgabe v2.0//DE
VERSION:2.0
METHOD:PUBLISH
BEGIN:VEVENT
DTSTART:20240104T173000Z
DTEND:20240104T190000Z
LOCATION:St.Johann\, Kirchhofplatz\, 8200 Schaffhausen
TRANSP:OPAQUE
SEQUENCE:0
UID:157742-veranstaltung@ref-sh.ch
DTSTAMP:20231104T180049Z
DESCRIPTION:Kontakt: Christoph Honegger Kirchenmusiker kath Pastoralraum
  Schaffhausen\n\nWeitere Infos: https://www.ref-sh.ch/veranstaltung/157742
SUMMARY:Probe Taizé Chor Schaffhausen
PRIORITY:5
X-MICROSOFT-CDO-IMPORTANCE:1
CLASS:PUBLIC
END:VEVENT
END:VCALENDAR
