BEGIN:VCALENDAR
PRODID:-//kirchenweb.ch gmbh//veranstaltungsausgabe v2.0//DE
VERSION:2.0
METHOD:PUBLISH
BEGIN:VEVENT
DTSTART:20240602T081500Z
DTEND:20240602T091500Z
LOCATION:Münster\, Münsterplatz\, 8200 Schaffhausen
TRANSP:OPAQUE
SEQUENCE:0
UID:157659-veranstaltung@ref-sh.ch
DTSTAMP:20240530T140844Z
DESCRIPTION:Jubiläum 500 Jahre Propstei Chorherrenstift\nDie Umwandlung
  der Benediktinerabtei in ein Chorherrenstift (Propstei) auf Pfingsten
  1524\n\n10.15 Uhr Festgottesdienst im Münster\, Predigt: Tobias
  Jammerthal (Uni Zürich): Jeremia 23\,16-29 Der Sturm des Herrn.
  Liturgie: Roland Diethelm (St. Johann-Münster)\, Andreas Heieck
  (Kirchenrat)\,\nMusik: Vokalensemble der Kantonsschule SH\, Leitung Tino
  Brütsch\, Andreas Jud (Orgel)\n\n11.30 Uhr Apéro riche im Kreuzgang\n
 \n12.30 Uhr Festvorträge im Münster: Grusswort Regierungspräsident
  Patrick Strasser\nTobias Jammerthal (Uni Zürich)\, Peter Jezler\, Roland
  E. Hofer\, Erich Bryner\nGeistliche Musik aus dem Frühbarock: Tino
  Brütsch (Tenor)\, Andreas Jud (Orgel)\nSchlusswort:
  Kirchenratspräsident Wolfram Kötter\n\nKontakt: Pfarrer Roland Diethelm
 \n\nWeitere Infos: https://www.ref-sh.ch/veranstaltung/157659
SUMMARY:Festgottesdienst Reformation
PRIORITY:5
X-MICROSOFT-CDO-IMPORTANCE:1
CLASS:PUBLIC
END:VEVENT
END:VCALENDAR
