BEGIN:VCALENDAR
PRODID:-//kirchenweb.ch gmbh//veranstaltungsausgabe v2.0//DE
VERSION:2.0
METHOD:PUBLISH
BEGIN:VEVENT
DTSTART:20240128T091500Z
DTEND:20240128T101500Z
LOCATION:St.Johann\, Kirchhofplatz\, 8200 Schaffhausen
TRANSP:OPAQUE
SEQUENCE:0
UID:157629-veranstaltung@ref-sh.ch
DTSTAMP:20240123T152031Z
DESCRIPTION:ökumenischer Gottesdienst zum Abschluss der Gebetswoche für
  die Einheit\n\nKontakt: Verena Hubmann\n\nWeitere Infos:
  https://www.ref-sh.ch/veranstaltung/157629
SUMMARY:Gottesdienst
PRIORITY:5
X-MICROSOFT-CDO-IMPORTANCE:1
CLASS:PUBLIC
END:VEVENT
END:VCALENDAR
