BEGIN:VCALENDAR
PRODID:-//kirchenweb.ch gmbh//veranstaltungsausgabe v2.0//DE
VERSION:2.0
METHOD:PUBLISH
BEGIN:VEVENT
DTSTART:20240609T081500Z
DTEND:20240609T091500Z
LOCATION:Munotzinne\, \, 8200 Schaffhausen
TRANSP:OPAQUE
SEQUENCE:0
UID:157623-veranstaltung@ref-sh.ch
DTSTAMP:20241128T160532Z
DESCRIPTION:Munotverein\n\nKontakt: Pfarrerin Verena Hubmann\n\nWeitere
  Infos: https://www.ref-sh.ch/veranstaltung/157623
SUMMARY:Ökumenischer Gottesdienst auf dem Munot
PRIORITY:5
X-MICROSOFT-CDO-IMPORTANCE:1
CLASS:PUBLIC
END:VEVENT
END:VCALENDAR
