BEGIN:VCALENDAR
PRODID:-//kirchenweb.ch gmbh//veranstaltungsausgabe v2.0//DE
VERSION:2.0
METHOD:PUBLISH
BEGIN:VEVENT
DTSTART:20240211T091500Z
DTEND:20240211T101500Z
LOCATION:St.Johann\, Kirchhofplatz\, 8200 Schaffhausen
TRANSP:OPAQUE
SEQUENCE:0
UID:157612-veranstaltung@ref-sh.ch
DTSTAMP:20240205T164237Z
DESCRIPTION:"Denn wenn ich schwach bin\, bin ich stark." (2Kor 12\,10) -
  in seiner so genannten "Narrenrede" nimmt Paulus die\, die sich selbst
  rühmen\, aufs Korn. Er rühmt sich lieber seiner Schwachheit\, damit die
  Kraft Christi bei ihm Wohnung nehmen kann.\nLektorin: Vreni Luginbühl\n
 \nKontakt: Verena Hubmann\n\nWeitere Infos:
  https://www.ref-sh.ch/veranstaltung/157612
SUMMARY:Gottesdienst
PRIORITY:5
X-MICROSOFT-CDO-IMPORTANCE:1
CLASS:PUBLIC
END:VEVENT
END:VCALENDAR
