BEGIN:VCALENDAR
PRODID:-//kirchenweb.ch gmbh//veranstaltungsausgabe v2.0//DE
VERSION:2.0
METHOD:PUBLISH
BEGIN:VEVENT
DTSTART:20240114T091500Z
DTEND:20240114T101500Z
LOCATION:Waldfriedhofkapelle\, Rheinhardstrasse\, 8200 Schaffhausen
TRANSP:OPAQUE
SEQUENCE:0
UID:157611-veranstaltung@ref-sh.ch
DTSTAMP:20250313T164213Z
DESCRIPTION:Kontakt: Pfarrerin Verena Hubmann\n\nWeitere Infos:
  https://www.ref-sh.ch/veranstaltung/157611
SUMMARY:Ökumenischer Gottesdienst zur Grabaufhebung
PRIORITY:5
X-MICROSOFT-CDO-IMPORTANCE:1
CLASS:PUBLIC
END:VEVENT
END:VCALENDAR
