BEGIN:VCALENDAR
PRODID:-//kirchenweb.ch gmbh//veranstaltungsausgabe v2.0//DE
VERSION:2.0
METHOD:PUBLISH
BEGIN:VEVENT
DTSTART:20240204T091500Z
DTEND:20240204T101500Z
LOCATION:St.Johann\, Kirchhofplatz\, 8200 Schaffhausen
TRANSP:OPAQUE
SEQUENCE:0
UID:157605-veranstaltung@ref-sh.ch
DTSTAMP:20240131T143409Z
DESCRIPTION:Mk 4\,26-29 Von der wachsenden Saat\nLektorin: Marlise Muralt
 \n\nKontakt: Pfarrerin Ute Nürnberg\n\nWeitere Infos:
  https://www.ref-sh.ch/veranstaltung/157605
SUMMARY:Gottesdienst
PRIORITY:5
X-MICROSOFT-CDO-IMPORTANCE:1
CLASS:PUBLIC
END:VEVENT
END:VCALENDAR
