BEGIN:VCALENDAR
PRODID:-//kirchenweb.ch gmbh//veranstaltungsausgabe v2.0//DE
VERSION:2.0
METHOD:PUBLISH
BEGIN:VEVENT
DTSTART:20240409T180000Z
DTEND:20240409T193000Z
LOCATION:Kirche\, Kirchstrasse 8\, 8214 Gächlingen
TRANSP:OPAQUE
SEQUENCE:0
UID:157590-veranstaltung@ref-sh.ch
DTSTAMP:20240928T135238Z
DESCRIPTION:Alle Mitglieder der Kirchgemeinde Gächlingen sind
  eingeladen\, um an diesem Abend die Jahresrechnung 2023 anzuschauen und
  zu genehmigen\, auf das vergangene Jahr zurück zu blicken und weitere
  aktuelle Informationen entgegen zu nehmen.\nNach dem geschäftlichen Teil
  serviert der Kirchenstand einen Apéro.\n\nKontakt: Philippe Niklaus\n
 \nWeitere Infos: https://www.ref-sh.ch/veranstaltung/157590
SUMMARY:Kirchgemeindeversammlung in der Kirche
PRIORITY:5
X-MICROSOFT-CDO-IMPORTANCE:1
CLASS:PUBLIC
END:VEVENT
END:VCALENDAR
