BEGIN:VCALENDAR
PRODID:-//kirchenweb.ch gmbh//veranstaltungsausgabe v2.0//DE
VERSION:2.0
METHOD:PUBLISH
BEGIN:VEVENT
DTSTART:20231217T100000Z
DTEND:20231217T160000Z
LOCATION:HofAckerZentrum\, Alpenstrasse 176\, 8203 Schaffhausen
TRANSP:OPAQUE
SEQUENCE:0
UID:157556-veranstaltung@ref-sh.ch
DTSTAMP:20231211T095428Z
DESCRIPTION:Nachdem die letztjährige Krippenausstellung im
  Hofackerzentrum auf grosses Interesse gestossen war\, wird unser Saal
  auch dieses Jahr in weihnachtlichem Glanz erstrahlen. Am dritten
  Adventswochenende sind im Rahmen der ökumenischen Veranstaltung wieder
  Krippen zu bewundern\, die aus privater Hand stammen. Begleitend zur
  Ausstellung sind im Adventscafé feine Köstlichkeiten zu geniessen\, der
  Erlös fliesst der Winterhilfe Schaffhausen zu. \n\nKrippenausstellung im
  HofAckerZentrum: Freitag\, 15. bis Sonntag\, 17. Dezember 2023.
  Öffnungszeiten: Fr: 18 Uhr bis 21 Uhr\, Sa: 14 bis 18 Uhr\, So: 11 bis
  17 Uhr\n\n\nKontakt: Adriana Di Cesare\n\nWeitere Infos:
  https://www.ref-sh.ch/veranstaltung/157556
SUMMARY:Krippenausstellung
PRIORITY:5
X-MICROSOFT-CDO-IMPORTANCE:1
CLASS:PUBLIC
END:VEVENT
END:VCALENDAR
