BEGIN:VCALENDAR
PRODID:-//kirchenweb.ch gmbh//veranstaltungsausgabe v2.0//DE
VERSION:2.0
METHOD:PUBLISH
BEGIN:VEVENT
DTSTART:20240516T173000Z
DTEND:20240516T210000Z
LOCATION:HofAckerZentrum\, Alpenstrasse 176\, 8203 Schaffhausen
TRANSP:OPAQUE
SEQUENCE:0
UID:157501-veranstaltung@ref-sh.ch
DTSTAMP:20240110T073943Z
DESCRIPTION:Nordspanien entdecken vom 13. bis 21. September 2024\nmit
  kurzen Abschnitten auf dem Jakobsweg (Weltkulturerbe)\n\nLeitung:\nWalter
  Rüegg\, Schaffhausen\nin Spanien zusammen mit:\nChristian Jochum\,
  Madrid\n\nKontakt: Walter Rüegg \, 052 624 84 18\nwhrueegg@shinternet.ch
 \n\nWeitere Infos: https://www.ref-sh.ch/veranstaltung/157501
SUMMARY:Info-Abend Gemeindereise - Nordspanienreise
PRIORITY:5
X-MICROSOFT-CDO-IMPORTANCE:1
CLASS:PUBLIC
END:VEVENT
END:VCALENDAR
