BEGIN:VCALENDAR
PRODID:-//kirchenweb.ch gmbh//veranstaltungsausgabe v2.0//DE
VERSION:2.0
METHOD:PUBLISH
BEGIN:VEVENT
DTSTART:20240123T064500Z
DTEND:20240123T074500Z
LOCATION:Kirche Buchthalen\, Windeggstrasse 1\, 8203 Schaffhausen
TRANSP:OPAQUE
SEQUENCE:0
UID:157274-veranstaltung@ref-sh.ch
DTSTAMP:20231027T153010Z
DESCRIPTION:Wort - Gebet - Stille - Lied\nmit Team und Pfarrpersonen \n
 \nEin Moment des Innehaltens und des Austauschs \nSie sind herzlich
  eingeladen! \n\nKontakt: Pfr. Daniel Müller\n\nWeitere Infos:
  https://www.ref-sh.ch/veranstaltung/157274
SUMMARY:Morgenbesinnung
PRIORITY:5
X-MICROSOFT-CDO-IMPORTANCE:1
CLASS:PUBLIC
END:VEVENT
END:VCALENDAR
