BEGIN:VCALENDAR
PRODID:-//kirchenweb.ch gmbh//veranstaltungsausgabe v2.0//DE
VERSION:2.0
METHOD:PUBLISH
BEGIN:VEVENT
DTSTART:20240621T154500Z
DTEND:20240621T163000Z
LOCATION:Ref. Kirche Beringen\, Postberg 21\, 8222 Beringen
TRANSP:OPAQUE
SEQUENCE:0
UID:157246-veranstaltung@ref-sh.ch
DTSTAMP:20231026T135031Z
DESCRIPTION:Kontakt: Pfrn. Jutta Schenk\n\nWeitere Infos:
  https://www.ref-sh.ch/veranstaltung/157246
SUMMARY:Jugendgottesdienst 5.-9. Klasse
PRIORITY:5
X-MICROSOFT-CDO-IMPORTANCE:1
CLASS:PUBLIC
END:VEVENT
END:VCALENDAR
